BEGIN:VCALENDAR
VERSION:2.0
PRODID:-//Newark Black Film Festival - ECPv6.15.15//NONSGML v1.0//EN
CALSCALE:GREGORIAN
METHOD:PUBLISH
X-WR-CALNAME:Newark Black Film Festival
X-ORIGINAL-URL:https://newarkblackfilmfestival.com
X-WR-CALDESC:Events for Newark Black Film Festival
REFRESH-INTERVAL;VALUE=DURATION:PT1H
X-Robots-Tag:noindex
X-PUBLISHED-TTL:PT1H
BEGIN:VTIMEZONE
TZID:UTC
BEGIN:STANDARD
TZOFFSETFROM:+0000
TZOFFSETTO:+0000
TZNAME:UTC
DTSTART:20230101T000000
END:STANDARD
END:VTIMEZONE
BEGIN:VEVENT
DTSTART;TZID=UTC:20240619T190000
DTEND;TZID=UTC:20240619T220000
DTSTAMP:20260421T060448
CREATED:20240522T025608Z
LAST-MODIFIED:20240618T160713Z
UID:22750-1718823600-1718834400@newarkblackfilmfestival.com
SUMMARY:Newark Black Film Festival: Power of the Dream
DESCRIPTION:Newark Black Film Festival: Power of the Dream\n\n\n\nFree. Registration required. \n\n\n\n\n\n    \n\n\n\nKick off the Newark Black Film Festival with an early screening of Power of the Dream\, an inspiring documentary directed by Dawn Porter\, alongside the short film A Race in the Sun by K. Nicole Mills. \n\n\n\nPower of the Dream \n\n\n\n\nDirected by Dawn Porter (94 min). Not rated.\n\n\n\nExperience the empowering and unlikely true story of how a group of professional women’s basketball players took on a WNBA team owner and rallied behind now-Senator Raphael Warnock\, forever changing the landscape of their sport and the course of U.S. politics.\n\n\n\nThe documentary is produced by Dawn Porter\, Sue Bird\, Nneka Ogwumike\, and Tracee Ellis Ross.\n\n\n\n\nA Race in the Sun \n\n\n\n\nDirected by K. Nicole Mills (20 min). Not rated.\n\n\n\nDelve into the cycling culture through the eyes of Ayesha McGowan\, the world’s first African American woman to become a professional cyclist.\n\n\n\n\nFollowing the screenings\, join us for an engaging Q&A session.
URL:https://newarkblackfilmfestival.com/event/newark-black-film-festival-power-of-the-dream/
LOCATION:The Newark Museum of Art\, 49 Washington Street\, Newark\, 07102\, United States
CATEGORIES:Film Screening,Free,Panel Discussion
ATTACH;FMTTYPE=image/jpeg:https://newarkblackfilmfestival.com/wp-content/uploads/2024/05/Atlanta-dream.jpeg
END:VEVENT
BEGIN:VEVENT
DTSTART;TZID=UTC:20240626T190000
DTEND;TZID=UTC:20240626T220000
DTSTAMP:20260421T060448
CREATED:20240522T031356Z
LAST-MODIFIED:20240603T213835Z
UID:22752-1719428400-1719439200@newarkblackfilmfestival.com
SUMMARY:Newark Black Film Festival: Drip Like Coffee
DESCRIPTION:Newark Black Film Festival: Drip Like Coffee\n\n\n\nFree. Registration required. \n\n\n\n\n\n         \n\n\n\nJoin us for an early screening of Drip Like Coffee\, directed by Anaiis Cisco\, featuring the short film Unbraided by Caroline Renard. \n\n\n\nDrip Like Coffee \n\n\n\n\nDirected by Anaiis Cisco (86 min). Not rated.\n\n\n\nWitness the unfolding of an unexpected romance between two Brooklyn baristas\, Kali and Mel\, as they confront their true desire to be together.\n\n\n\n\nUnbraided \n\n\n\n\nDirected by Caroline Renard (15 min). Not rated.\n\n\n\nFollow Frankie as she navigates the streets of Los Angeles\, facing rejection and obstacles at every turn\, in a desperate attempt to get her hair braided before a big trip.\n\n\n\nStay for a post-screening Q&A session with Director Anaiis Cisco.
URL:https://newarkblackfilmfestival.com/event/newark-black-film-festival-drip-like-coffee/
LOCATION:The Newark Museum of Art\, 49 Washington Street\, Newark\, 07102\, United States
CATEGORIES:Film Screening,Free,Panel Discussion
ATTACH;FMTTYPE=image/jpeg:https://newarkblackfilmfestival.com/wp-content/uploads/2024/05/Drip-Like-Coffee.jpeg
END:VEVENT
END:VCALENDAR