BEGIN:VCALENDAR
VERSION:2.0
PRODID:-//Newark Black Film Festival - ECPv6.15.15//NONSGML v1.0//EN
CALSCALE:GREGORIAN
METHOD:PUBLISH
X-ORIGINAL-URL:https://newarkblackfilmfestival.com
X-WR-CALDESC:Events for Newark Black Film Festival
REFRESH-INTERVAL;VALUE=DURATION:PT1H
X-Robots-Tag:noindex
X-PUBLISHED-TTL:PT1H
BEGIN:VTIMEZONE
TZID:America/New_York
BEGIN:DAYLIGHT
TZOFFSETFROM:-0500
TZOFFSETTO:-0400
TZNAME:EDT
DTSTART:20230312T070000
END:DAYLIGHT
BEGIN:STANDARD
TZOFFSETFROM:-0400
TZOFFSETTO:-0500
TZNAME:EST
DTSTART:20231105T060000
END:STANDARD
BEGIN:DAYLIGHT
TZOFFSETFROM:-0500
TZOFFSETTO:-0400
TZNAME:EDT
DTSTART:20240310T070000
END:DAYLIGHT
BEGIN:STANDARD
TZOFFSETFROM:-0400
TZOFFSETTO:-0500
TZNAME:EST
DTSTART:20241103T060000
END:STANDARD
BEGIN:DAYLIGHT
TZOFFSETFROM:-0500
TZOFFSETTO:-0400
TZNAME:EDT
DTSTART:20250309T070000
END:DAYLIGHT
BEGIN:STANDARD
TZOFFSETFROM:-0400
TZOFFSETTO:-0500
TZNAME:EST
DTSTART:20251102T060000
END:STANDARD
END:VTIMEZONE
BEGIN:VEVENT
DTSTART;TZID=America/New_York:20240714T180000
DTEND;TZID=America/New_York:20240714T220000
DTSTAMP:20260421T134003
CREATED:20240603T225627Z
LAST-MODIFIED:20240617T180347Z
UID:22806-1720980000-1720994400@newarkblackfilmfestival.com
SUMMARY:NBFF Black & Gold Gala
DESCRIPTION:NBFF Black & Gold Gala\n\n\n\n$120 General Admission\, $100 NMOA Members\, Free with VIP Festival Pass \n\n\n\n\n\n    \n\n\n\nJoin us for the first Black & Gold Gala and support the future of Black film!  \n\n\n\nThis seated dinner celebrates excellence in Black cinema and includes the Paul Robeson Awards for this year’s festival winners.  \n\n\n\nRub shoulders with industry professionals and fellow film enthusiasts as we celebrate the incredible talent and creativity within the film & TV industry. Enjoy live entertainment\, delicious food\, and more\, all in one unforgettable night.  \n\n\n\nThis event helps to support the Newark Black Film Festival’s ongoing efforts to enhance the awareness\, accessibility\, and understanding of the art of Black cinema. 
URL:https://newarkblackfilmfestival.com/event/nbff-black-gold-gala/
LOCATION:The Newark Museum of Art\, 49 Washington Street\, Newark\, 07102\, United States
CATEGORIES:Entertainment,Party
ATTACH;FMTTYPE=image/jpeg:https://newarkblackfilmfestival.com/wp-content/uploads/2024/06/050424_40446_NMOA-Art-Ball-scaled.jpg
END:VEVENT
END:VCALENDAR