BEGIN:VCALENDAR
VERSION:2.0
PRODID:-//Newark Black Film Festival - ECPv6.15.15//NONSGML v1.0//EN
CALSCALE:GREGORIAN
METHOD:PUBLISH
X-WR-CALNAME:Newark Black Film Festival
X-ORIGINAL-URL:https://newarkblackfilmfestival.com
X-WR-CALDESC:Events for Newark Black Film Festival
REFRESH-INTERVAL;VALUE=DURATION:PT1H
X-Robots-Tag:noindex
X-PUBLISHED-TTL:PT1H
BEGIN:VTIMEZONE
TZID:America/New_York
BEGIN:DAYLIGHT
TZOFFSETFROM:-0500
TZOFFSETTO:-0400
TZNAME:EDT
DTSTART:20230312T070000
END:DAYLIGHT
BEGIN:STANDARD
TZOFFSETFROM:-0400
TZOFFSETTO:-0500
TZNAME:EST
DTSTART:20231105T060000
END:STANDARD
BEGIN:DAYLIGHT
TZOFFSETFROM:-0500
TZOFFSETTO:-0400
TZNAME:EDT
DTSTART:20240310T070000
END:DAYLIGHT
BEGIN:STANDARD
TZOFFSETFROM:-0400
TZOFFSETTO:-0500
TZNAME:EST
DTSTART:20241103T060000
END:STANDARD
BEGIN:DAYLIGHT
TZOFFSETFROM:-0500
TZOFFSETTO:-0400
TZNAME:EDT
DTSTART:20250309T070000
END:DAYLIGHT
BEGIN:STANDARD
TZOFFSETFROM:-0400
TZOFFSETTO:-0500
TZNAME:EST
DTSTART:20251102T060000
END:STANDARD
END:VTIMEZONE
BEGIN:VEVENT
DTSTART;TZID=America/New_York:20240714T100000
DTEND;TZID=America/New_York:20240714T100000
DTSTAMP:20260421T121118
CREATED:20240603T195348Z
LAST-MODIFIED:20240618T154411Z
UID:22778-1720951200-1720951200@newarkblackfilmfestival.com
SUMMARY:Newark Black Film Festival: Family Tree
DESCRIPTION:Newark Black Film Festival: Family Tree\n\n\n\n\n\n         \n\n\n\n$10 General Admission\, $7 Students & NMOA Members\, Free for all Festival Pass holders \n\n\n\nJoin us for a screening of Family Tree\, directed by Jennifer MacArthur\, and the short film It Takes a Village\, directed by Joshua Kissi. Stay for a Q&A following the screenings. \n\n\n\nFamily Tree \n\n\n\n\nDirected by Jennifer MacArthur (96 min). Not rated \n\n\n\nBlack land ownership and sustainable forestry are one and the same\, and two North Carolina families take on the challenge of building intergenerational wealth while raising healthy forests. \n\n\n\n\nIt Takes a Village  \n\n\n\n\nDirected by Joshua Kissi (14 min). Not rated \n\n\n\nThe year is 1965\, and the residents of Winneba\, Georgia inhabit a community that seems untouched by the rest of the world. A father prepares his son for his ascension to manhood through the hunting of a deer; a rite of passage in this family. \n\n\n\n\nThe screenings will be followed by a Q&A.  \n\n\n\nPlease note: Auditorium seating is available on a first come first serve basis for the film screening. An overflow space will be provided once we are at capacity. 
URL:https://newarkblackfilmfestival.com/event/newark-black-film-festival-family-tree/
LOCATION:The Newark Museum of Art\, 49 Washington Street\, Newark\, 07102\, United States
CATEGORIES:Film Screening,Panel Discussion
ATTACH;FMTTYPE=image/jpeg:https://newarkblackfilmfestival.com/wp-content/uploads/2024/06/Family-Tree-1.jpg
END:VEVENT
BEGIN:VEVENT
DTSTART;TZID=America/New_York:20240714T130000
DTEND;TZID=America/New_York:20240714T130000
DTSTAMP:20260421T121118
CREATED:20240603T215732Z
LAST-MODIFIED:20240617T180125Z
UID:22795-1720962000-1720962000@newarkblackfilmfestival.com
SUMMARY:Newark Black Film: Shorts Block
DESCRIPTION:Newark Black Film: Shorts Block \n\n\n\n $10 General Admission\, $7 Students & NMOA Members\, Free for all Festival Pass holders \n\n\n\n\n\n     \n\n\n\nJoin us for curated selection of short films: To the Girl that Looks Like Me directed by Ewurakua Dawson-Amoah\, Harlem Fragments directed by Cameron Tyler Carr\, City of Dreamz directed by Imani Celeste\, Love Taps directed by Derrick Woodyard and Underwater Projects directed by dream hampton. Followed by a Q&A session. \n\n\n\nTo the Girl that Looks Like Me  \n\n\n\n\nDirected by Ewurakua Dawson-Amoah (6 min). Not rated \n\n\n\nAn experimental poetry piece that celebrates black women\, who continue to thrive in a system that was not built for them. This visual poem explores themes of cultural appropriation\, self-love\, and self-discovery through a string of vignettes that combine dance\, folklore\, modern culture\, and spirituality. \n\n\n\n\nHarlem Fragments  \n\n\n\n\nDirected by Cameron Tyler Carr (17 min). Not rated \n\n\n\nAn Afro-futurist scrapbook storytelling of a Harlem Black family’s beautiful destruction during the 2008 recession\, a natural disaster so mesmerizing you can’t look away. Based on true events. \n\n\n\n\nCity of Dreamz  \n\n\n\n\nDirected by Imani Celeste (12 min). Not rated \n\n\n\nFollow four Black art students telling stories of community\, divine intervention\, and the artistry that led them to this very moment…smoking weed in a cramped NYC apartment trying not to get caught. \n\n\n\n\nLove Taps  \n\n\n\n\nDirected by Derrick Woodyard (14 min). Not rated \n\n\n\nA young boy tries to cope with his parent’s separation gains a new perspective of his father after discovering his affair with another man. \n\n\n\n\nUnderwater Projects  \n\n\n\n\nDirected by dream hampton (28 min). Not rated \n\n\n\nNorfolk\, Virginia is sinking due to insufficient sea defenses and past urban development choices. The predominantly Black St. Paul’s housing community grapples with government redevelopment plans that prompt inquiries into their true intentions: climate resilience or gentrification. \n\n\n\n\nThe screenings will be followed by a Q&A.  \n\n\n\nPlease note: Auditorium seating is available on a first come first serve basis for the film screening. An overflow space will be provided once we are at capacity. 
URL:https://newarkblackfilmfestival.com/event/newark-black-film-shorts-block/
LOCATION:The Newark Museum of Art\, 49 Washington Street\, Newark\, 07102\, United States
CATEGORIES:Film Screening,Panel Discussion
ATTACH;FMTTYPE=image/jpeg:https://newarkblackfilmfestival.com/wp-content/uploads/2024/06/Love-Taps-3.jpg
END:VEVENT
BEGIN:VEVENT
DTSTART;TZID=America/New_York:20240714T160000
DTEND;TZID=America/New_York:20240714T160000
DTSTAMP:20260421T121118
CREATED:20240603T213404Z
LAST-MODIFIED:20240624T204725Z
UID:22793-1720972800-1720972800@newarkblackfilmfestival.com
SUMMARY:Newark Black Film Festival: Seeking Mavis Beacon
DESCRIPTION:Newark Black Film Festival: Seeking Mavis Beacon\n\n\n\n $10 General Admission\, $7 Students & NMOA Members\, Free for all Festival Pass holders \n\n\n\n\n\n       \n\n\n\nJoin us for our final screening at the 50th Newark Black Festival\, of Seeking Mavis Beacon directed by Jazmin Renée Jones. \n\n\n\nSeeking Mavis Beacon \n\n\n\n\nDirected by Jazmin Renée Jones (102 min). Not rated \n\n\n\nThe most recognizable woman in technology lives in our collective imagination. Mavis Beacon Teaches Typing taught millions globally\, but the software’s Haitian-born cover model vanished decades ago. Two DIY detectives search for the model while posing questions about identity and artificial intelligence.\n\n\n\n\nThe screening will be followed by a Q&A. \n\n\n\nPlease note: Auditorium seating is available on a first come first serve basis for the film screening. An overflow space will be provided once we are at capacity. 
URL:https://newarkblackfilmfestival.com/event/newark-black-film-festival-seeking-mavis-beacon/
LOCATION:The Newark Museum of Art\, 49 Washington Street\, Newark\, 07102\, United States
CATEGORIES:Film Screening,Panel Discussion
ATTACH;FMTTYPE=image/png:https://newarkblackfilmfestival.com/wp-content/uploads/2024/06/SMB-still1.png
END:VEVENT
BEGIN:VEVENT
DTSTART;TZID=America/New_York:20240714T180000
DTEND;TZID=America/New_York:20240714T220000
DTSTAMP:20260421T121118
CREATED:20240603T225627Z
LAST-MODIFIED:20240617T180347Z
UID:22806-1720980000-1720994400@newarkblackfilmfestival.com
SUMMARY:NBFF Black & Gold Gala
DESCRIPTION:NBFF Black & Gold Gala\n\n\n\n$120 General Admission\, $100 NMOA Members\, Free with VIP Festival Pass \n\n\n\n\n\n    \n\n\n\nJoin us for the first Black & Gold Gala and support the future of Black film!  \n\n\n\nThis seated dinner celebrates excellence in Black cinema and includes the Paul Robeson Awards for this year’s festival winners.  \n\n\n\nRub shoulders with industry professionals and fellow film enthusiasts as we celebrate the incredible talent and creativity within the film & TV industry. Enjoy live entertainment\, delicious food\, and more\, all in one unforgettable night.  \n\n\n\nThis event helps to support the Newark Black Film Festival’s ongoing efforts to enhance the awareness\, accessibility\, and understanding of the art of Black cinema. 
URL:https://newarkblackfilmfestival.com/event/nbff-black-gold-gala/
LOCATION:The Newark Museum of Art\, 49 Washington Street\, Newark\, 07102\, United States
CATEGORIES:Entertainment,Party
ATTACH;FMTTYPE=image/jpeg:https://newarkblackfilmfestival.com/wp-content/uploads/2024/06/050424_40446_NMOA-Art-Ball-scaled.jpg
END:VEVENT
END:VCALENDAR