BEGIN:VCALENDAR
VERSION:2.0
PRODID:-//Newark Black Film Festival - ECPv6.15.15//NONSGML v1.0//EN
CALSCALE:GREGORIAN
METHOD:PUBLISH
X-WR-CALNAME:Newark Black Film Festival
X-ORIGINAL-URL:https://newarkblackfilmfestival.com
X-WR-CALDESC:Events for Newark Black Film Festival
REFRESH-INTERVAL;VALUE=DURATION:PT1H
X-Robots-Tag:noindex
X-PUBLISHED-TTL:PT1H
BEGIN:VTIMEZONE
TZID:UTC
BEGIN:STANDARD
TZOFFSETFROM:+0000
TZOFFSETTO:+0000
TZNAME:UTC
DTSTART:20230101T000000
END:STANDARD
END:VTIMEZONE
BEGIN:VEVENT
DTSTART;TZID=UTC:20240619T190000
DTEND;TZID=UTC:20240619T220000
DTSTAMP:20260419T141909
CREATED:20240522T025608Z
LAST-MODIFIED:20240618T160713Z
UID:22750-1718823600-1718834400@newarkblackfilmfestival.com
SUMMARY:Newark Black Film Festival: Power of the Dream
DESCRIPTION:Newark Black Film Festival: Power of the Dream\n\n\n\nFree. Registration required. \n\n\n\n\n\n    \n\n\n\nKick off the Newark Black Film Festival with an early screening of Power of the Dream\, an inspiring documentary directed by Dawn Porter\, alongside the short film A Race in the Sun by K. Nicole Mills. \n\n\n\nPower of the Dream \n\n\n\n\nDirected by Dawn Porter (94 min). Not rated.\n\n\n\nExperience the empowering and unlikely true story of how a group of professional women’s basketball players took on a WNBA team owner and rallied behind now-Senator Raphael Warnock\, forever changing the landscape of their sport and the course of U.S. politics.\n\n\n\nThe documentary is produced by Dawn Porter\, Sue Bird\, Nneka Ogwumike\, and Tracee Ellis Ross.\n\n\n\n\nA Race in the Sun \n\n\n\n\nDirected by K. Nicole Mills (20 min). Not rated.\n\n\n\nDelve into the cycling culture through the eyes of Ayesha McGowan\, the world’s first African American woman to become a professional cyclist.\n\n\n\n\nFollowing the screenings\, join us for an engaging Q&A session.
URL:https://newarkblackfilmfestival.com/event/newark-black-film-festival-power-of-the-dream/
LOCATION:The Newark Museum of Art\, 49 Washington Street\, Newark\, 07102\, United States
CATEGORIES:Film Screening,Free,Panel Discussion
ATTACH;FMTTYPE=image/jpeg:https://newarkblackfilmfestival.com/wp-content/uploads/2024/05/Atlanta-dream.jpeg
END:VEVENT
BEGIN:VEVENT
DTSTART;TZID=UTC:20240530T180000
DTEND;TZID=UTC:20240530T210000
DTSTAMP:20260419T141909
CREATED:20240522T024920Z
LAST-MODIFIED:20240522T024920Z
UID:22748-1717092000-1717102800@newarkblackfilmfestival.com
SUMMARY:Newark Black Film Festival Presents — Aftershock
DESCRIPTION:Film Screening + Panel Discussion\nFree. Registration required. \nREGISTER FOR FREE TICKETS \nJoin us as we explore the US maternal health crisis in the Black community. \nAftershock\, directed by Paula Eiselt and Tonya Lewis Lee. (86 mins). TV-MA \nFollowing the deaths of two young women due to childbirth complications\, two bereaved families galvanize activists\, birth-workers and physicians to reckon with one of the most pressing American crises today: the US maternal health crisis. \nA small reception will be held at 6pm\, with the film beginning at 7pm. \nFollowing the film will be a panel discussion featuring: \n\nTonya Lewis Lee\, director\nMayor of the City of Newark\, Ras Baraka\n\nREGISTER FOR FREE TICKETS
URL:https://newarkblackfilmfestival.com/event/newark-black-film-festival-presents-aftershock/
LOCATION:The Newark Museum of Art\, 49 Washington Street\, Newark\, 07102\, United States
ATTACH;FMTTYPE=image/jpeg:https://newarkblackfilmfestival.com/wp-content/uploads/2024/05/Aftershock-movie-poster.jpg
END:VEVENT
BEGIN:VEVENT
DTSTART;TZID=UTC:20240509T190000
DTEND;TZID=UTC:20240509T213000
DTSTAMP:20260419T141909
CREATED:20240425T104750Z
LAST-MODIFIED:20240426T020459Z
UID:22660-1715281200-1715290200@newarkblackfilmfestival.com
SUMMARY:Newark Black Film Festival Presents — Versailles ’73: American Runway Revolution
DESCRIPTION:Film Screening + Panel Discussion\nFree. Registration required. \nREGISTER FOR FREE TICKETS \nVersailles ’73: American Runway\, directed by Deborah Riley Draper. (91 mins). Not rated \nVersailles ’73 explores a pivotal moment in history\, when a fashion face-off pitted French haute couture establishment – Yves Saint Laurent\, Christian Dior\, Hubert de Givenchy\, Pierre Cardin and Emmanuel Ungaro – against American designers Anne Klein\, Stephen Burrows\, Oscar de la Renta and Halston. \nIn front of an audience of 700 millionaire luminaries\, royalty and icons including Andy Warhol\, Princess Grace of Monaco\, Christina Onassis and Josephine Baker\, the Americans catapulted ready-to-wear to global stardom. \nFilm begins at 7pm. Arrive early to view The Story of Newark Fashion: Atelier to Runway exhibition before the screening. \nFollowing the film will be a panel discussion featuring: \n\nDeborah Riley Draper\, director of the film\nPat Cleveland\, fashion model\, walked the runway at Battle of Versailles\nMikki Taylor\, media personality and Editor-at-Large\, Essence magazine\nKristen Joy Owens\, guest curator of The Story of Newark Fashion: Atelier to Runway exhibition\n\nREGISTER FOR FREE TICKETS
URL:https://newarkblackfilmfestival.com/event/newark-black-film-festival-presents-versailles-73-american-runway-revolution/
LOCATION:The Newark Museum of Art\, 49 Washington Street\, Newark\, 07102\, United States
ATTACH;FMTTYPE=image/jpeg:https://newarkblackfilmfestival.com/wp-content/uploads/2024/04/Versailles-image.jpeg
END:VEVENT
END:VCALENDAR