BEGIN:VCALENDAR
VERSION:2.0
PRODID:-//Newark Black Film Festival - ECPv6.15.15//NONSGML v1.0//EN
CALSCALE:GREGORIAN
METHOD:PUBLISH
X-ORIGINAL-URL:https://newarkblackfilmfestival.com
X-WR-CALDESC:Events for Newark Black Film Festival
REFRESH-INTERVAL;VALUE=DURATION:PT1H
X-Robots-Tag:noindex
X-PUBLISHED-TTL:PT1H
BEGIN:VTIMEZONE
TZID:America/New_York
BEGIN:DAYLIGHT
TZOFFSETFROM:-0500
TZOFFSETTO:-0400
TZNAME:EDT
DTSTART:20230312T070000
END:DAYLIGHT
BEGIN:STANDARD
TZOFFSETFROM:-0400
TZOFFSETTO:-0500
TZNAME:EST
DTSTART:20231105T060000
END:STANDARD
BEGIN:DAYLIGHT
TZOFFSETFROM:-0500
TZOFFSETTO:-0400
TZNAME:EDT
DTSTART:20240310T070000
END:DAYLIGHT
BEGIN:STANDARD
TZOFFSETFROM:-0400
TZOFFSETTO:-0500
TZNAME:EST
DTSTART:20241103T060000
END:STANDARD
BEGIN:DAYLIGHT
TZOFFSETFROM:-0500
TZOFFSETTO:-0400
TZNAME:EDT
DTSTART:20250309T070000
END:DAYLIGHT
BEGIN:STANDARD
TZOFFSETFROM:-0400
TZOFFSETTO:-0500
TZNAME:EST
DTSTART:20251102T060000
END:STANDARD
END:VTIMEZONE
BEGIN:VTIMEZONE
TZID:UTC
BEGIN:STANDARD
TZOFFSETFROM:+0000
TZOFFSETTO:+0000
TZNAME:UTC
DTSTART:20230101T000000
END:STANDARD
END:VTIMEZONE
BEGIN:VEVENT
DTSTART;TZID=America/New_York:20240713T110000
DTEND;TZID=America/New_York:20240713T130000
DTSTAMP:20260421T103408
CREATED:20240603T220829Z
LAST-MODIFIED:20240711T162102Z
UID:22797-1720868400-1720875600@newarkblackfilmfestival.com
SUMMARY:NBFF Panel: Where Creativity Meets Commerce: Small Businesses Working with Film & TV 
DESCRIPTION:NBFF Panel: Where Creativity Meets Commerce: Small Businesses Working with Film & TV\n\n\n\nFree. Registration required. \n\n\n\n  \n\n\n\n\n\n\n\n\n\nDiscover the wealth of opportunities for filmmakers and businesses in New Jersey’s vibrant film and TV industry. Explore the resources and incentives available from the New Jersey Economic Development Authority (NJEDA) and hear from local business owners who have already benefited.  \n\n\n\nComplimentary food from Cornbread will be provided.  \n\n\n\nPanelists:  \n\n\n\n\nMatt Sestrich\, Director – Film Tax Credits\, NJEDA \n\n\n\nLynette LaShawn\, Fashion Director & Newark business owner \n\n\n\nJustis Pitt-Goodson\, CEO and Creative Director\, BrownMill \n\n\n\nDavid Occhino\, Location Manager\, Wu-Tang: An American Saga\, American Sports Story \n\n\n\n\nModerator: Desiree Hadley\, Director of the Newark Office of Film and TV  \n\n\n\nPresented by NJEDA and the Newark Office of Film & Television 
URL:https://newarkblackfilmfestival.com/event/where-creativity-meets-commerce-small-businesses-working-with-film-tv/
LOCATION:The Newark Museum of Art\, 49 Washington Street\, Newark\, 07102\, United States
CATEGORIES:Free,Panel Discussion
ATTACH;FMTTYPE=image/jpeg:https://newarkblackfilmfestival.com/wp-content/uploads/2024/06/NBFF-panel.jpg
END:VEVENT
BEGIN:VEVENT
DTSTART;TZID=America/New_York:20240713T130000
DTEND;TZID=America/New_York:20240713T140000
DTSTAMP:20260421T103408
CREATED:20240603T221723Z
LAST-MODIFIED:20240712T132119Z
UID:22799-1720875600-1720879200@newarkblackfilmfestival.com
SUMMARY:NBFF Panel: 50 Years of Black Film
DESCRIPTION:Newark Museum of Art “Black Film Festival”\n\n\n\n\n\nNBFF Panel: 50 Years of Black Film\n\n\n\nFree. Registration required. \n\n\n\n\n\n    \n\n\n\nExplore the evolution of Black cinema over the past five decades. Delve into the milestones\, influential films\, and pivotal moments that have helped shape the landscape of film.  \n\n\n\nPanelists: \n\n\n\n\nNefertite Nguvu\n\n\n\nGloria Hopkins Buck\n\n\n\nRichard Wesley\n\n\n\nModerator: Ayana Morris
URL:https://newarkblackfilmfestival.com/event/nbff-panel-50-years-of-black-film/
LOCATION:The Newark Museum of Art\, 49 Washington Street\, Newark\, 07102\, United States
CATEGORIES:Free,Panel Discussion
ATTACH;FMTTYPE=image/jpeg:https://newarkblackfilmfestival.com/wp-content/uploads/2024/04/NMOA-DAY-2-31-scaled.jpg
END:VEVENT
BEGIN:VEVENT
DTSTART;TZID=America/New_York:20240713T130000
DTEND;TZID=America/New_York:20240713T150000
DTSTAMP:20260421T103408
CREATED:20240603T222540Z
LAST-MODIFIED:20240618T134707Z
UID:22800-1720875600-1720882800@newarkblackfilmfestival.com
SUMMARY:NBFF Live Music in the Lounge
DESCRIPTION:Newark Museum of Art “Black Film Festival”\n\n\n\n\n\nNBFF Live Music in the Lounge\n\n\n\nFree with NBFF screening ticket\, NBFF festival pass\, or NMOA museum admission.  \n\n\n\n\n\n      \n\n\n\nUnwind in the Engelhard Court Lounge’s relaxing atmosphere\, featuring live music by talented musicians as part of the festival’s diverse programming.
URL:https://newarkblackfilmfestival.com/event/nbff-live-music-in-the-lounge/
LOCATION:The Newark Museum of Art\, 49 Washington Street\, Newark\, 07102\, United States
CATEGORIES:Entertainment
ATTACH;FMTTYPE=image/jpeg:https://newarkblackfilmfestival.com/wp-content/uploads/2024/03/NMOA-BFF-DAY-1-57-scaled.jpg
END:VEVENT
BEGIN:VEVENT
DTSTART;TZID=America/New_York:20240713T140000
DTEND;TZID=America/New_York:20240713T160000
DTSTAMP:20260421T103408
CREATED:20240603T232748Z
LAST-MODIFIED:20240703T183309Z
UID:22808-1720879200-1720886400@newarkblackfilmfestival.com
SUMMARY:In the Order of Weapons: 50 Years of Community Film Across Black America
DESCRIPTION:In the Order of Weapons: 50 Years of Community Film Across Black America\n\n\n\n$10 General Admission\, $7 Members\, Free for all Festival Pass holders \n\n\n\n\n\n      \n\n\n\n\n“Films from a black perspective are films that are more in the order of weapons in the struggle for freedom\, for equality\, for liberation and self-expression\, and for all those human rights…” \nWilliam Greaves\, filmmaker. \n\n\n\nAs we celebrate 50 years of the Newark Black Film Festival\, we reflect on a legacy of bold vision and voices in Black film. This program celebrates the community as filmmaker. These films were not made to sell tickets in movie theaters — they were collectively created by community entities to confront local power\, preserve local histories and effect local change.   \n\n\n\nJoin us for this dynamic curation of radical short documentaries\, made across geographies\, over the past 50 years\, about\, by and in service to Black communities across the United States.    \n\n\n\nPanther AKA Off The Pig (1967) \n\n\n\n\nby San Francisco Newsreel (15 mins)\n\n\n\nA compelling document of the Black Panther Party leadership in 1967.  One of Newsreel’s most widely distributed films\, it was originally released as “Off the Pig.” This short film features drawings from activist artist Emory Douglas.\n\n\n\n\nThe Taking of One Liberty Place (1987) \n\n\n\n\nby Louis Massiah\, Carlton Jones\, Scribe Video Center (8 mins)\n\n\n\nA moving\, “you-are-there” document of the October 1\, 1987 sit-in and occupation of Philadelphia’s newest and largest office building\, One Liberty Place. The demonstrators\, many of whom were homeless and/or members of the National Homeless Union\, chose this building as a symbol of both misplaced corporate and government priorities.\n\n\n\n\nBlack Women\, Sexual Politics and Revolution (1992) \n\n\n\n\nby Not Channel Zero Collective (29 mins)\n\n\n\nBlack women speak candidly on issues of sex\, class and gender roles. The video examines how African American women deal with issues of poverty\, abortion\, battering and lack of health care\, and addresses how women’s roles in community struggle and activism are often overlooked or ignored. The video also looks at media portrayals with an emphasis on the representation of Black women in music videos.\n\n\n\n\nMothers of Terrell Homes (2019) \n\n\n\n\nby Rita Fortenberry\, Dorothy Brazell\, Rosemary Horsley\, Rhonda Napier\, Valerie Hall\, Betty Brazell\, Isaac Green Diebboll\,  (21 mins)\n\n\n\nA multi-generational matriarchy fights to protect their home\, a 275 unit public housing complex in the Ironbound Neighborhood of Newark\, NJ that has been slated for demolition.\n\n\n\n\nFollowing this screening will be a panel discussion featuring MacArthur prize-winning documentary filmmaker and founding executive director of Philadelphia’s Scribe Video Center\, Louis Massiah.  The panel will be moderated by Yvonne Michelle Shirley\, director of Express Newark’s Community Media Center.  \n\n\n\nThis program is inspired by the 2022 WE TELL: Fifty Years of Community Participatory Media National Touring Exhibition. \n\n\n\n 
URL:https://newarkblackfilmfestival.com/event/in-the-order-of-weapons-50-years-of-community-film-across-black-america/
LOCATION:The Newark Museum of Art\, 49 Washington Street\, Newark\, 07102\, United States
CATEGORIES:Film Screening,Panel Discussion
ATTACH;FMTTYPE=image/jpeg:https://newarkblackfilmfestival.com/wp-content/uploads/2024/04/20230712-NBFF-2023-audience.jpeg
END:VEVENT
BEGIN:VEVENT
DTSTART;TZID=UTC:20240713T170000
DTEND;TZID=UTC:20240713T170000
DTSTAMP:20260421T103408
CREATED:20240603T193339Z
LAST-MODIFIED:20240618T144735Z
UID:22766-1720890000-1720890000@newarkblackfilmfestival.com
SUMMARY:Newark Black Film Festival: Swamp Dogg Gets His Pool Painted
DESCRIPTION:Newark Black Film Festival: Swamp Dogg Gets His Pool Painted\n\n\n\n$10 General Admission\, $7 Students & NMOA Members\, Free for all Festival Pass holders \n\n\n\n\n\n     \n\n\n\nJoin us for a screening of Swamp Dogg Gets His Pool Painted. \n\n\n\nSwamp Dogg Gets His Pool Painted  \n\n\n\n\nDirected by Isaac Gale\, Ryan Olson\, and David McMurry (95 min). Not rated \n\n\n\nCult musician Swamp Dogg and housemates Moogstar and Guitar Shorty have turned their suburban LA home into an artistic haven. They journey through the turbulent music business\, forming a special friendship transcending eras. \n\n\n\n\nThe screening will be followed by a Q&A with Swamp Dogg\, Moogstar\, and Dr. Jeri Williams.   \n\n\n\nPlease note: Auditorium seating is available on a first come first serve basis for the film screening. An overflow space will be provided once we are at capacity. 
URL:https://newarkblackfilmfestival.com/event/newark-black-film-festival-swamp-dogg-gets-his-pool-painted/
LOCATION:The Newark Museum of Art\, 49 Washington Street\, Newark\, 07102\, United States
CATEGORIES:Film Screening,Panel Discussion
ATTACH;FMTTYPE=image/jpeg:https://newarkblackfilmfestival.com/wp-content/uploads/2024/06/SwampDogg1-ezgif.com-webp-to-jpg-converter.jpg
END:VEVENT
BEGIN:VEVENT
DTSTART;TZID=America/New_York:20240713T190000
DTEND;TZID=America/New_York:20240713T210000
DTSTAMP:20260421T103408
CREATED:20240603T223337Z
LAST-MODIFIED:20240618T145139Z
UID:22801-1720897200-1720904400@newarkblackfilmfestival.com
SUMMARY:Listening is Fundamental: Black Film Edition\, with Egypt
DESCRIPTION:Listening is Fundamental: Black Film Edition\, with Egypt\n\n\n\nFree with NBFF screening ticket\, NBFF festival pass\, or NMOA museum admission. \n\n\n\n\n\n    \n\n\n\nA special edition of the exciting sample recognition bingo game\, curated by Newark native\, Egypt\, uniquely blending music and film. Side A showcases songs from artists who’ve made acting debuts\, while Side B features songs that cleverly integrate snippets from beloved movies. 
URL:https://newarkblackfilmfestival.com/event/listening-is-fundamental-black-film-edition-with-egypt/
LOCATION:The Newark Museum of Art\, 49 Washington Street\, Newark\, 07102\, United States
CATEGORIES:Entertainment
ATTACH;FMTTYPE=image/jpeg:https://newarkblackfilmfestival.com/wp-content/uploads/2024/03/NMOA-AWARDS-AFTER-PARTY-140-1440x960-1.jpeg
END:VEVENT
BEGIN:VEVENT
DTSTART;TZID=UTC:20240713T200000
DTEND;TZID=UTC:20240713T200000
DTSTAMP:20260421T103408
CREATED:20240603T193441Z
LAST-MODIFIED:20240617T175914Z
UID:22768-1720900800-1720900800@newarkblackfilmfestival.com
SUMMARY:Newark Black Film Festival: Rob Peace
DESCRIPTION:Newark Black Film Festival: Rob Peace\n\n\n\n $15 General Admission\, $12 Students & NMOA Members\, Free for all Festival Pass holders \n\n\n\n\n\n    \n\n\n\nJoin us for a special screening of Rob Peace directed by Chiwetel Ejiofor. \n\n\n\nRob Peace \n\n\n\n\nDirected by Chiwetel Ejiofor (119 min). Not rated \n\n\n\nThe story of an inner-city Newark kid who attends Yale yet ultimately succumbs to harsh economic realities and the demons of his past. \n\n\n\n\nThe screening will be followed by a Q&A with special guests.  \n\n\n\nPlease note: Auditorium seating is available on a first come first serve basis for the film screening. An overflow space will be provided once we are at capacity. 
URL:https://newarkblackfilmfestival.com/event/newark-black-film-festival-rob-peace/
LOCATION:The Newark Museum of Art\, 49 Washington Street\, Newark\, 07102\, United States
CATEGORIES:Film Screening,Panel Discussion
ATTACH;FMTTYPE=image/jpeg:https://newarkblackfilmfestival.com/wp-content/uploads/2024/06/Rob-Peace-1.jpg
END:VEVENT
END:VCALENDAR