BEGIN:VCALENDAR
VERSION:2.0
PRODID:-//Newark Black Film Festival - ECPv6.15.15//NONSGML v1.0//EN
CALSCALE:GREGORIAN
METHOD:PUBLISH
X-WR-CALNAME:Newark Black Film Festival
X-ORIGINAL-URL:https://newarkblackfilmfestival.com
X-WR-CALDESC:Events for Newark Black Film Festival
REFRESH-INTERVAL;VALUE=DURATION:PT1H
X-Robots-Tag:noindex
X-PUBLISHED-TTL:PT1H
BEGIN:VTIMEZONE
TZID:America/New_York
BEGIN:DAYLIGHT
TZOFFSETFROM:-0500
TZOFFSETTO:-0400
TZNAME:EDT
DTSTART:20230312T070000
END:DAYLIGHT
BEGIN:STANDARD
TZOFFSETFROM:-0400
TZOFFSETTO:-0500
TZNAME:EST
DTSTART:20231105T060000
END:STANDARD
BEGIN:DAYLIGHT
TZOFFSETFROM:-0500
TZOFFSETTO:-0400
TZNAME:EDT
DTSTART:20240310T070000
END:DAYLIGHT
BEGIN:STANDARD
TZOFFSETFROM:-0400
TZOFFSETTO:-0500
TZNAME:EST
DTSTART:20241103T060000
END:STANDARD
BEGIN:DAYLIGHT
TZOFFSETFROM:-0500
TZOFFSETTO:-0400
TZNAME:EDT
DTSTART:20250309T070000
END:DAYLIGHT
BEGIN:STANDARD
TZOFFSETFROM:-0400
TZOFFSETTO:-0500
TZNAME:EST
DTSTART:20251102T060000
END:STANDARD
END:VTIMEZONE
BEGIN:VTIMEZONE
TZID:UTC
BEGIN:STANDARD
TZOFFSETFROM:+0000
TZOFFSETTO:+0000
TZNAME:UTC
DTSTART:20230101T000000
END:STANDARD
END:VTIMEZONE
BEGIN:VEVENT
DTSTART;TZID=America/New_York:20240712T130000
DTEND;TZID=America/New_York:20240712T130000
DTSTAMP:20260421T103214
CREATED:20240603T224836Z
LAST-MODIFIED:20240617T174710Z
UID:22804-1720789200-1720789200@newarkblackfilmfestival.com
SUMMARY:NBFF Youth Cinema Throwback: Ruby Bridges
DESCRIPTION:NBFF Youth Cinema Throwback: Ruby Bridges\n\n\n\nFree\, registration required. \n\n\n\n\n\n    \n\n\n\nJoin us for a screening of a classic perfect for all ages. \n\n\n\nRuby Bridges \n\n\n\n\nDirected by Euzhan Palcy (96 min). Rated PG \n\n\n\nWhen six-year-old Ruby is chosen to be the first African American to integrate her local elementary school\, she is subjected to the true ugliness of racism for the first time. 
URL:https://newarkblackfilmfestival.com/event/nbff-youth-cinema-throwback-ruby-bridges/
LOCATION:The Newark Museum of Art\, 49 Washington Street\, Newark\, 07102\, United States
CATEGORIES:Film Screening,Youth
ATTACH;FMTTYPE=image/png:https://newarkblackfilmfestival.com/wp-content/uploads/2024/06/Ruby-Bridges-1.png
END:VEVENT
BEGIN:VEVENT
DTSTART;TZID=UTC:20240712T180000
DTEND;TZID=UTC:20240712T180000
DTSTAMP:20260421T103214
CREATED:20240603T193608Z
LAST-MODIFIED:20240618T144029Z
UID:22762-1720807200-1720807200@newarkblackfilmfestival.com
SUMMARY:Newark Black Film Festival: Songs from the Hole
DESCRIPTION:Newark Black Film Festival: Songs from the Hole\n\n\n\n $10 General Admission\, $7 Students & NMOA Members\, Free for all Festival Pass holders \n\n\n\n\n\n    \n\n\n\nJoin us for a screening of Songs from the Hole\, directed by Contessa Gayles. \n\n\n\nSongs from the Hole  \n\n\n\n\nDirected by Contessa Gayles (106 min). Not rated \n\n\n\nAt 15\, he took a life. Three days later\, his brother’s life was taken. An incarcerated musician struggles for healing and peace as he comes of age in this documentary visual album composed behind bars.\n\n\n\n\nThe screening will be followed by a Q&A with director\, Contessa Gayles and producer richie reseda.   \n\n\n\nPlease note: Auditorium seating is available on a first come first serve basis for the film screening. An overflow space will be provided once we are at capacity. 
URL:https://newarkblackfilmfestival.com/event/newark-black-film-festival-songs-from-the-hole/
LOCATION:The Newark Museum of Art\, 49 Washington Street\, Newark\, 07102\, United States
CATEGORIES:Film Screening,Panel Discussion
ATTACH;FMTTYPE=image/jpeg:https://newarkblackfilmfestival.com/wp-content/uploads/2024/06/SongsfromtheHoler.jpg
END:VEVENT
BEGIN:VEVENT
DTSTART;TZID=UTC:20240712T210000
DTEND;TZID=UTC:20240712T210000
DTSTAMP:20260421T103214
CREATED:20240603T203357Z
LAST-MODIFIED:20240703T183914Z
UID:22764-1720818000-1720818000@newarkblackfilmfestival.com
SUMMARY:Newark Black Film Festival: Toll
DESCRIPTION:Newark Black Film Festival: Toll\n\n\n\n $10 General Admission\, $7 Students & NMOA Members\, Free for all Festival Pass holders \n\n\n\n\n\n \n\n\n\nJoin us for a screening of Toll\, directed by Carolina Markowicz. In Portuguese with English subtitles. \n\n\n\nToll  \n\n\n\n\nDirected by Carolina Markowicz (102 min). Not rated \n\n\n\nSuellen\, a toll booth attendant\, uses her job to help a gang of thieves steal watches so that she can afford to send her son to a gay conversion workshop. \n\n\n\nIn Portuguese with English subtitles. \n\n\n\n\nThe screening will be followed by a Q&A with Roger Costa and Tadáskía\, who currently has an exhibition at MoMA. Learn more about Tadáskía’s exhibition. \n\n\n\nPlease note: Auditorium seating is available on a first come first serve basis for the film screening. An overflow space will be provided once we are at capacity. 
URL:https://newarkblackfilmfestival.com/event/newark-black-film-festival-toll/
LOCATION:The Newark Museum of Art\, 49 Washington Street\, Newark\, 07102\, United States
CATEGORIES:Film Screening,Panel Discussion
ATTACH;FMTTYPE=image/jpeg:https://newarkblackfilmfestival.com/wp-content/uploads/2024/06/Toll-2.jpeg
END:VEVENT
END:VCALENDAR