BEGIN:VCALENDAR
VERSION:2.0
PRODID:-//Newark Black Film Festival - ECPv6.15.15//NONSGML v1.0//EN
CALSCALE:GREGORIAN
METHOD:PUBLISH
X-WR-CALNAME:Newark Black Film Festival
X-ORIGINAL-URL:https://newarkblackfilmfestival.com
X-WR-CALDESC:Events for Newark Black Film Festival
REFRESH-INTERVAL;VALUE=DURATION:PT1H
X-Robots-Tag:noindex
X-PUBLISHED-TTL:PT1H
BEGIN:VTIMEZONE
TZID:America/New_York
BEGIN:DAYLIGHT
TZOFFSETFROM:-0500
TZOFFSETTO:-0400
TZNAME:EDT
DTSTART:20230312T070000
END:DAYLIGHT
BEGIN:STANDARD
TZOFFSETFROM:-0400
TZOFFSETTO:-0500
TZNAME:EST
DTSTART:20231105T060000
END:STANDARD
BEGIN:DAYLIGHT
TZOFFSETFROM:-0500
TZOFFSETTO:-0400
TZNAME:EDT
DTSTART:20240310T070000
END:DAYLIGHT
BEGIN:STANDARD
TZOFFSETFROM:-0400
TZOFFSETTO:-0500
TZNAME:EST
DTSTART:20241103T060000
END:STANDARD
BEGIN:DAYLIGHT
TZOFFSETFROM:-0500
TZOFFSETTO:-0400
TZNAME:EDT
DTSTART:20250309T070000
END:DAYLIGHT
BEGIN:STANDARD
TZOFFSETFROM:-0400
TZOFFSETTO:-0500
TZNAME:EST
DTSTART:20251102T060000
END:STANDARD
END:VTIMEZONE
BEGIN:VTIMEZONE
TZID:UTC
BEGIN:STANDARD
TZOFFSETFROM:+0000
TZOFFSETTO:+0000
TZNAME:UTC
DTSTART:20230101T000000
END:STANDARD
END:VTIMEZONE
BEGIN:VEVENT
DTSTART;TZID=America/New_York:20240711T130000
DTEND;TZID=America/New_York:20240711T130000
DTSTAMP:20260421T105749
CREATED:20240603T224302Z
LAST-MODIFIED:20240617T174256Z
UID:22802-1720702800-1720702800@newarkblackfilmfestival.com
SUMMARY:NBFF Youth Cinema Throwback: The Wiz
DESCRIPTION:NBFF Youth Cinema Throwback: The Wiz\n\n\n\nFree\, registration required. \n\n\n\n\n\n     \n\n\n\nJoin us for a screening of a classic perfect for all ages. \n\n\n\nThe Wiz \n\n\n\n\nDirected by Sidney Lumet (134 min). Rated G \n\n\n\nWhen Harlem schoolteacher Dorothy (Diana Ross) tries to save her dog from a storm\, she’s miraculously whisked away to an urban fantasy land called Oz. 
URL:https://newarkblackfilmfestival.com/event/nbff-youth-cinema-throwback-the-wiz/
LOCATION:The Newark Museum of Art\, 49 Washington Street\, Newark\, 07102\, United States
CATEGORIES:Film Screening,Youth
ATTACH;FMTTYPE=image/jpeg:https://newarkblackfilmfestival.com/wp-content/uploads/2024/06/The-Wiz-1.jpeg
END:VEVENT
BEGIN:VEVENT
DTSTART;TZID=UTC:20240711T190000
DTEND;TZID=UTC:20240711T190000
DTSTAMP:20260421T105749
CREATED:20240601T195148Z
LAST-MODIFIED:20240624T205447Z
UID:22758-1720724400-1720724400@newarkblackfilmfestival.com
SUMMARY:NBFF Honors Kasi Lemmons
DESCRIPTION:NBFF Honors Kasi Lemmons\n\n\n\n $10 General Admission\, $7 Members\, Free for all Festival Pass holders \n\n\n\n\n\n    \n\n\n\nJoin us for a special event honoring acclaimed director Kasi Lemmons at the Newark Black Film Festival. Enjoy a screening of her iconic film Eve’s Bayou and the short film Behold a Lady. Plus\, don’t miss the chance to meet and engage with Kasi Lemmons herself during this exclusive evening. \n\n\n\nEve’s Bayou  \n\n\n\n\nDirected by Kasi Lemmons (108 min). Rated R \n\n\n\nWhat did little Eve see–and how will it haunt her? Husband\, father and womanizer Louis Batiste is the head of an affluent family\, but it’s the women who rule this gothic world of secrets\, lies\, and mystic forces. \n\n\n\n\nBehold a Lady \n\n\n\n\nDirected by Britt Williams (16 min). Not rated \n\n\n\nWhen a studious tomboy gets dumped on the eve of the Latin Quiz Bowl tryouts\, she struggles to balance her heartbreak and studies as she transforms her appearance to win back her ex. \n\n\n\n\nThe screening will be followed by a Q&A with directors\, Kasi Lemmons and Britt Williams.  \n\n\n\nPlease note: Auditorium seating is available on a first come first serve basis for the film screening. An overflow space will be provided once we are at capacity. 
URL:https://newarkblackfilmfestival.com/event/nbff-throwback-eves-bayou-honoring-kasi-lemmons/
LOCATION:The Newark Museum of Art\, 49 Washington Street\, Newark\, 07102\, United States
CATEGORIES:Film Screening,Panel Discussion
ATTACH;FMTTYPE=image/jpeg:https://newarkblackfilmfestival.com/wp-content/uploads/2024/06/Eves-Bayou-1.jpg
END:VEVENT
END:VCALENDAR