BEGIN:VCALENDAR
VERSION:2.0
PRODID:-//Newark Black Film Festival - ECPv6.15.15//NONSGML v1.0//EN
CALSCALE:GREGORIAN
METHOD:PUBLISH
X-ORIGINAL-URL:https://newarkblackfilmfestival.com
X-WR-CALDESC:Events for Newark Black Film Festival
REFRESH-INTERVAL;VALUE=DURATION:PT1H
X-Robots-Tag:noindex
X-PUBLISHED-TTL:PT1H
BEGIN:VTIMEZONE
TZID:UTC
BEGIN:STANDARD
TZOFFSETFROM:+0000
TZOFFSETTO:+0000
TZNAME:UTC
DTSTART:20230101T000000
END:STANDARD
END:VTIMEZONE
BEGIN:VEVENT
DTSTART;TZID=UTC:20240710T180000
DTEND;TZID=UTC:20240710T180000
DTSTAMP:20260425T063005
CREATED:20240603T211604Z
LAST-MODIFIED:20240604T213200Z
UID:22756-1720634400-1720634400@newarkblackfilmfestival.com
SUMMARY:NBFF Opening Night Reception and Film: Sing Sing
DESCRIPTION:NBFF Opening Night Reception and Film: Sing Sing\n\n\n\n $15 General Admission\, $12 Students & NMOA Members\, Free for all Festival Pass holders \n\n\n\n\n\n    \n\n\n\nA celebration to launch the official opening of the 50th Newark Black Film Festival\, featuring DJ Skeme Richards\, followed by a special opening night presentation of Sing Sing.  \n\n\n\nSing Sing  \n\n\n\n\nDirected by Greg Kwedar (105 min). Not rated \n\n\n\nImprisoned at Sing Sing for a crime he didn’t commit\, Divine G finds purpose by acting in a theatre group alongside other incarcerated men in this story of resilience\, humanity\, and the transformative power of art. \n\n\n\n\nThe screening will be followed by a conversation with cast from the film. \n\n\n\nPlease note: Auditorium seating is available on a first come first serve basis for the film screening. An overflow space will be provided once we are at capacity.  \n\n\n\nSponsored by
URL:https://newarkblackfilmfestival.com/event/nbff-opening-night-reception-and-film-sing-sing/
LOCATION:The Newark Museum of Art\, 49 Washington Street\, Newark\, 07102\, United States
CATEGORIES:Film Screening,Free,Panel Discussion,Party
ATTACH;FMTTYPE=image/jpeg:https://newarkblackfilmfestival.com/wp-content/uploads/2024/06/Sing-Sing-still.jpg
END:VEVENT
END:VCALENDAR